BEGIN:VCALENDAR
VERSION:2.0
PRODID:-//Centre Culturel Bruegel - ECPv6.15.12.2//NONSGML v1.0//EN
CALSCALE:GREGORIAN
METHOD:PUBLISH
X-WR-CALNAME:Centre Culturel Bruegel
X-ORIGINAL-URL:https://ccbruegel.be
X-WR-CALDESC:Évènements pour Centre Culturel Bruegel
REFRESH-INTERVAL;VALUE=DURATION:PT1H
X-Robots-Tag:noindex
X-PUBLISHED-TTL:PT1H
BEGIN:VTIMEZONE
TZID:Europe/Paris
BEGIN:DAYLIGHT
TZOFFSETFROM:+0100
TZOFFSETTO:+0200
TZNAME:CEST
DTSTART:20250330T010000
END:DAYLIGHT
BEGIN:STANDARD
TZOFFSETFROM:+0200
TZOFFSETTO:+0100
TZNAME:CET
DTSTART:20251026T010000
END:STANDARD
BEGIN:DAYLIGHT
TZOFFSETFROM:+0100
TZOFFSETTO:+0200
TZNAME:CEST
DTSTART:20260329T010000
END:DAYLIGHT
BEGIN:STANDARD
TZOFFSETFROM:+0200
TZOFFSETTO:+0100
TZNAME:CET
DTSTART:20261025T010000
END:STANDARD
BEGIN:DAYLIGHT
TZOFFSETFROM:+0100
TZOFFSETTO:+0200
TZNAME:CEST
DTSTART:20270328T010000
END:DAYLIGHT
BEGIN:STANDARD
TZOFFSETFROM:+0200
TZOFFSETTO:+0100
TZNAME:CET
DTSTART:20271031T010000
END:STANDARD
END:VTIMEZONE
BEGIN:VEVENT
DTSTART;TZID=Europe/Paris:20260417T100000
DTEND;TZID=Europe/Paris:20260417T170000
DTSTAMP:20260421T115615
CREATED:20260305T144627Z
LAST-MODIFIED:20260305T144627Z
UID:10000776-1776420000-1776445200@ccbruegel.be
SUMMARY:Formation aux métiers des arts de la scène
DESCRIPTION:
URL:https://ccbruegel.be/evenement/formation-aux-metiers-des-arts-de-la-scene/
LOCATION:Centre Culturel Bruegel\, rue des renards\, Bruxelles\, Belgique
END:VEVENT
BEGIN:VEVENT
DTSTART;TZID=Europe/Paris:20260417T203000
DTEND;TZID=Europe/Paris:20260417T220000
DTSTAMP:20260421T115615
CREATED:20260305T164625Z
LAST-MODIFIED:20260305T164625Z
UID:10000798-1776457800-1776463200@ccbruegel.be
SUMMARY:Intra Muros
DESCRIPTION:
URL:https://ccbruegel.be/evenement/intra-muros-2/
LOCATION:Centre Culturel Bruegel\, rue des renards\, Bruxelles\, Belgique
END:VEVENT
END:VCALENDAR